BEGIN:VCALENDAR
VERSION:2.0
PRODID:-//Freiwilligen Zentrum Bayreuth - ECPv6.9.0//NONSGML v1.0//EN
CALSCALE:GREGORIAN
METHOD:PUBLISH
X-ORIGINAL-URL:https://www.freiwilligen-zentrum-bayreuth.de/wp
X-WR-CALDESC:Veranstaltungen für Freiwilligen Zentrum Bayreuth
REFRESH-INTERVAL;VALUE=DURATION:PT1H
X-Robots-Tag:noindex
X-PUBLISHED-TTL:PT1H
BEGIN:VTIMEZONE
TZID:Europe/Helsinki
BEGIN:DAYLIGHT
TZOFFSETFROM:+0200
TZOFFSETTO:+0300
TZNAME:EEST
DTSTART:20260329T010000
END:DAYLIGHT
BEGIN:STANDARD
TZOFFSETFROM:+0300
TZOFFSETTO:+0200
TZNAME:EET
DTSTART:20261025T010000
END:STANDARD
END:VTIMEZONE
BEGIN:VEVENT
DTSTART;TZID=Europe/Helsinki:20260506T110000
DTEND;TZID=Europe/Helsinki:20260506T120000
DTSTAMP:20260424T220348
CREATED:20251028T094524Z
LAST-MODIFIED:20251028T094524Z
UID:5998-1778065200-1778068800@www.freiwilligen-zentrum-bayreuth.de
SUMMARY:Corporate Identity für Non-Profits – Mehr als nur ein einheitliches Design
DESCRIPTION:Corporate Identity (CI) bezeichnet die Identität einer Organisation – also das Zusammenspiel von Gestaltung\, Kommunikation und Verhalten\, das sie nach innen und außen unverwechselbar macht. Eine klare CI sorgt für Wiedererkennung\, schafft Vertrauen und macht die Arbeit einer Organisation sichtbar. \nDoch wie können Organisationen eine starke und klare CI entwickeln\, und damit ihre Projekte und Arbeit sichtbar machen\, um bei ihren Zielgruppen einen starken Eindruck zu hinterlassen\, ohne dass es die Welt kostet und relativ einfach umsetzbar ist? \nIn unserem Webinar erhalten Sie einen kompakten und inspirierenden Einstieg in die Welt der CI\, speziell zugeschnitten auf die Möglichkeiten gemeinnütziger Organisationen. Sie erfahren\, wie Sie Schritt für Schritt eine authentische und konsistente Identität aufbauen\, die zu Ihrer Organisation passt und Ihre Wirkung nachhaltig verstärkt. \nInhalte: \n\nWas bedeutet CI und was steckt alles hinter dem Begriff?\nWarum benötige ich einen CI-Leitfaden?\nWie erstelle ich ein aussagekräftige Logo und welche Tools sind dafür geeignet?\nWelche Icons\, Schriften\, Farben und Designs passen zu meinem Verein und wie kann ich das selbst auswählen und umsetzen?\n\nZielgruppe: Gemeinnützige Organisationen\, die ihre Marke stärker und klarer nach außen präsentieren und kommunizieren möchten oder gerade auch an einem Redesign oder Rebranding arbeiten. \nEmpfehlung: Organisationen aus Deutschland\, Österreich und der Schweiz \nDieses Webinar wird ermöglicht durch:
URL:https://www.freiwilligen-zentrum-bayreuth.de/wp/veranstaltung/corporate-identity-fuer-non-profits-mehr-als-nur-ein-einheitliches-design/
LOCATION:Online
ATTACH;FMTTYPE=image/png:https://www.freiwilligen-zentrum-bayreuth.de/wp/wp-content/uploads/2025/10/hds_6mai.png
END:VEVENT
BEGIN:VEVENT
DTSTART;TZID=Europe/Helsinki:20260520T100000
DTEND;TZID=Europe/Helsinki:20260520T130000
DTSTAMP:20260424T220348
CREATED:20260331T090137Z
LAST-MODIFIED:20260410T102748Z
UID:6223-1779271200-1779282000@www.freiwilligen-zentrum-bayreuth.de
SUMMARY:Fachtag „Aktiv gegen Einsamkeit“ 2026
DESCRIPTION:Fachtag „Aktiv gegen Einsamkeit“ – Schwerpunkt Inklusion \nNach dem erfolgreichen ersten Fachtag im Herbst\, bei dem die Gewinnung von Ehrenamtlichen im Mittelpunkt stand\, laden wir Sie herzlich zu unserem zweiten Fachtag ein: \nMittwoch\, 20. Mai 202610:00 bis 13:00 Uhr \nDer Fachtag „Aktiv gegen Einsamkeit“ bietet erneut Raum für Vernetzung und Austausch\, setzt Impulse und schafft Platz für neue Ideen. Einsamkeit ist ein gesellschaftlich hoch relevantes Thema\, das häufig auch durch bestehende Barrieren verursacht oder verstärkt wird. Diese möchten wir gezielt in den Blick nehmen und uns in diesem Jahr dem Schwerpunkt Inklusion widmen. \nIm Rahmen eines Impulsvortrags gehen wir unter anderem folgenden Fragen nach: \n\nWie inklusiv sind meine Angebote?\nWelche Barrieren gibt es in unserer Einrichtung oder in unserem Verein?\n\nIm Anschluss werden die Inhalte in einem moderierten Austausch gemeinsam vertieft. Darüber hinaus erwarten Sie Diskussionen\, Best-Practice-Beispiele sowie Raum für weiterführende Gedanken und neue Perspektiven. \nDer Fachtag wird in enger Zusammenarbeit vom Freiwilligen Zentrum Bayreuth\, dem Seniorenamt der Stadt Bayreuth\, dem Malteser Hilfsdienst e.V. Bayreuth sowie dem Paritätischen Wohlfahrtsverband in Oberfranken organisiert. Gemeinsam möchten wir das Thema Einsamkeit wirksam angehen und nachhaltige Lösungen entwickeln. \nAnmeldung:Eine Anmeldung ist möglich per E-Mail an info@freiwilligen-zentrum-bayreuth.de\, telefonisch unter 0921 514116 oder über das Anmeldeformular unten auf dieser Seite. \n———————————— \nFlyer Download: \n2026 Aktiv gegen Einsamkeit
URL:https://www.freiwilligen-zentrum-bayreuth.de/wp/veranstaltung/fachtag-aktiv-gegen-einsamkeit-2026/
LOCATION:Bürgerbegegnungsstätte\, Am Sendelbach 1\, Bayreuth\, 95445
ATTACH;FMTTYPE=image/png:https://www.freiwilligen-zentrum-bayreuth.de/wp/wp-content/uploads/2026/03/2026-Aktiv-gegen-Einsamkeit-0001.png
END:VEVENT
END:VCALENDAR