BEGIN:VCALENDAR
VERSION:2.0
PRODID:-//Freiwilligen Zentrum Bayreuth - ECPv6.9.0//NONSGML v1.0//EN
CALSCALE:GREGORIAN
METHOD:PUBLISH
X-ORIGINAL-URL:https://www.freiwilligen-zentrum-bayreuth.de/wp
X-WR-CALDESC:Veranstaltungen für Freiwilligen Zentrum Bayreuth
REFRESH-INTERVAL;VALUE=DURATION:PT1H
X-Robots-Tag:noindex
X-PUBLISHED-TTL:PT1H
BEGIN:VTIMEZONE
TZID:Europe/Helsinki
BEGIN:DAYLIGHT
TZOFFSETFROM:+0200
TZOFFSETTO:+0300
TZNAME:EEST
DTSTART:20260329T010000
END:DAYLIGHT
BEGIN:STANDARD
TZOFFSETFROM:+0300
TZOFFSETTO:+0200
TZNAME:EET
DTSTART:20261025T010000
END:STANDARD
END:VTIMEZONE
BEGIN:VEVENT
DTSTART;TZID=Europe/Helsinki:20260623T110000
DTEND;TZID=Europe/Helsinki:20260623T120000
DTSTAMP:20260425T011830
CREATED:20251028T094741Z
LAST-MODIFIED:20251028T094741Z
UID:6004-1782212400-1782216000@www.freiwilligen-zentrum-bayreuth.de
SUMMARY:KI-Werkzeuge zur Bild- und Videoerstellung
DESCRIPTION:Werkzeuge der Künstlichen Intelligenz (KI) zur Bild- und Videogestaltung – Ist das die Zukunft der visuellen Kommunikation? Die Entwicklung von Künstlicher Intelligenz revolutioniert aktuell nicht nur die Art und Weise der Informationsbeschaffung sondern auch\, wie wir Bilder und Videos erstellen können.\nKI-gestützte Tools bieten enorme Potenziale\, um kreative Prozesse zu beschleunigen\, Kosten zu senken und visuelle Inhalte auf ein neues Level zu heben. Doch wie können diese Tools gezielt für die Gestaltung von Bildern und Videos genutzt werden und ist es langfristig möglich\, dass diese VideoproduzentInnen oder GrafikdesignerInnen komplett ersetzen? \nIn unserem Webinar erhalten Sie wertvolle Einblicke in KI-Werkzeuge\, die bei der Bild- und Videoproduktion hilfreich sein können. Dabei zeigen wir Ihnen\, wie Sie KI für die Erstellung von hochwertigem visuellen Content nutzen können\, um Ihre Kommunikation zu optimieren und Ressourcen effizient zu nutzen. Darüber hinaus beschäftigen wir uns aber auch mit wichtigen Fragen wie: Wie authentisch ist die Nutzung jener Inhalte und was muss bei dem Veröffentlichen der Inhalte mitbeachtet werden? \nLernen Sie\, wie Sie mit KI Ihre visuelle Kommunikation weiterentwickeln\, Ihre Projekte effizienter und kreativer gestalten können und dabei trotzdem authentisch und nahbar bleiben. \nInhalte: \n\nWelche KI-Tools gibt es zur Erstellung von Bildern und Videos?\nInwiefern beschleunigt KI den kreativen Prozess in der Bild- und Videoproduktion?\nWas muss beachtet werden wenn KI-Werkzeuge zur Bild- und Videoerstellung genutzt werden?\nWann sollte ich KI zur Inhaltserstellung einsetzen? Best Practices und hilfreiche Tipps.\n\nZielgruppe: Gemeinnützige Organisationen\, die Künstliche Intelligenz gerne stärker in ihren Alltag zur Erstellung und Optimierung von Bild- und Videomaterial einsetzen möchten. \nEmpfehlung: Organisationen aus Deutschland\, Österreich und der Schweiz \nDieses Webinar wird ermöglicht durch:
URL:https://www.freiwilligen-zentrum-bayreuth.de/wp/veranstaltung/ki-werkzeuge-zur-bild-und-videoerstellung/
LOCATION:Online
ATTACH;FMTTYPE=image/png:https://www.freiwilligen-zentrum-bayreuth.de/wp/wp-content/uploads/2025/10/hds_23juni.png
END:VEVENT
END:VCALENDAR