BEGIN:VCALENDAR
VERSION:2.0
PRODID:-//Freiwilligen Zentrum Bayreuth - ECPv6.9.0//NONSGML v1.0//EN
CALSCALE:GREGORIAN
METHOD:PUBLISH
X-WR-CALNAME:Freiwilligen Zentrum Bayreuth
X-ORIGINAL-URL:https://www.freiwilligen-zentrum-bayreuth.de/wp
X-WR-CALDESC:Veranstaltungen für Freiwilligen Zentrum Bayreuth
REFRESH-INTERVAL;VALUE=DURATION:PT1H
X-Robots-Tag:noindex
X-PUBLISHED-TTL:PT1H
BEGIN:VTIMEZONE
TZID:Europe/Helsinki
BEGIN:DAYLIGHT
TZOFFSETFROM:+0200
TZOFFSETTO:+0300
TZNAME:EEST
DTSTART:20260329T010000
END:DAYLIGHT
BEGIN:STANDARD
TZOFFSETFROM:+0300
TZOFFSETTO:+0200
TZNAME:EET
DTSTART:20261025T010000
END:STANDARD
END:VTIMEZONE
BEGIN:VEVENT
DTSTART;TZID=Europe/Helsinki:20260611T170000
DTEND;TZID=Europe/Helsinki:20260611T200000
DTSTAMP:20260425T012547
CREATED:20260127T121601Z
LAST-MODIFIED:20260127T122121Z
UID:6117-1781197200-1781208000@www.freiwilligen-zentrum-bayreuth.de
SUMMARY:Workshop: Künstliche Intelligenz (KI): Verstehen\, Nutzen erkennen und anwenden
DESCRIPTION:Workshop: Künstliche Intelligenz (KI) – Verstehen\, Nutzen erkennen und anwenden\nKünstliche Intelligenz ist in aller Munde – doch was steckt wirklich dahinter?\nIm Workshop „Künstliche Intelligenz (KI): Verstehen\, Nutzen erkennen und anwenden“\nsetzen wir uns praxisnah mit den Grundlagen\, Einsatzmöglichkeiten sowie den Chancen und Grenzen\nvon KI-Systemen auseinander. \nMöchten Sie wissen\, wie Künstliche Intelligenz Sie konkret bei Ihrer Öffentlichkeitsarbeit\nunterstützen kann? Dann sind Sie in diesem Workshop genau richtig. \nNeben einem grundlegenden Verständnis von Künstlicher Intelligenz geht es insbesondere um\ntextbasierte KI-Anwendungen: Wir zeigen anhand konkreter Beispiele\, wie diese funktionieren\nund wie sie sinnvoll und unterstützend in der Vereinsarbeit eingesetzt werden können. \nInhalte des Workshops\nDer Workshop „Künstliche Intelligenz (KI): Verstehen\, Nutzen erkennen und anwenden“ gibt Antworten\nauf folgende Fragestellungen: \n\nWas bedeutet Künstliche Intelligenz?\nWas unterscheidet eine Bild-KI von einer Text-KI?\nWelche Chancen und Risiken gibt es im Umgang mit KI-Systemen?\nWas sind sogenannte Prompts und wie werden sie eingesetzt?\nWie kann die eigene Öffentlichkeitsarbeit mit textbasierten KI-Anwendungen unterstützt werden?\n\nOrganisatorische Informationen\nTermin:\nDienstag\, 11. Juni \nOrt:\nDer Veranstaltungsort wird noch bekannt gegeben. \nAnmeldung\nDie Anmeldung ist möglich: \n\nüber das Formular unten auf dieser Seite\nper E-Mail an lichtenstein@freiwilligen-zentrum-bayreuth.de\ntelefonisch unter 0921 514116\n\nWir freuen uns auf Ihre Teilnahme und den gemeinsamen Austausch.
URL:https://www.freiwilligen-zentrum-bayreuth.de/wp/veranstaltung/workshop-kuenstliche-intelligenz-ki-verstehen-nutzen-erkennen-und-anwenden/
ATTACH;FMTTYPE=image/png:https://www.freiwilligen-zentrum-bayreuth.de/wp/wp-content/uploads/2026/01/DiVe-Workshop-111.png
END:VEVENT
END:VCALENDAR