BEGIN:VCALENDAR
VERSION:2.0
PRODID:-//Freiwilligen Zentrum Bayreuth - ECPv6.9.0//NONSGML v1.0//EN
CALSCALE:GREGORIAN
METHOD:PUBLISH
X-WR-CALNAME:Freiwilligen Zentrum Bayreuth
X-ORIGINAL-URL:https://www.freiwilligen-zentrum-bayreuth.de/wp
X-WR-CALDESC:Veranstaltungen für Freiwilligen Zentrum Bayreuth
REFRESH-INTERVAL;VALUE=DURATION:PT1H
X-Robots-Tag:noindex
X-PUBLISHED-TTL:PT1H
BEGIN:VTIMEZONE
TZID:Europe/Helsinki
BEGIN:DAYLIGHT
TZOFFSETFROM:+0200
TZOFFSETTO:+0300
TZNAME:EEST
DTSTART:20260329T010000
END:DAYLIGHT
BEGIN:STANDARD
TZOFFSETFROM:+0300
TZOFFSETTO:+0200
TZNAME:EET
DTSTART:20261025T010000
END:STANDARD
END:VTIMEZONE
BEGIN:VEVENT
DTSTART;TZID=Europe/Helsinki:20260429T180000
DTEND;TZID=Europe/Helsinki:20260429T200000
DTSTAMP:20260424T220000
CREATED:20260415T102501Z
LAST-MODIFIED:20260415T102502Z
UID:6242-1777485600-1777492800@www.freiwilligen-zentrum-bayreuth.de
SUMMARY:Informationsabend für Studierende
DESCRIPTION:INFORMATIONSABEND FÜR STUDIERENDE: Soziales Engagement in Bayreuth\nDu interessierst Dich für ehrenamtliches Engagement oder möchtest Dich bereits engagieren\, suchst aber noch nach einer passenden Möglichkeit? \nDas Freiwilligen Zentrum Bayreuth und die studentische Initiative Campus Volunteers laden Dich zu einem Informationsabend zum Thema „Soziales Engagement in Bayreuth“ ein: \n\nLerne das Freiwilligen Zentrum Bayreuth und Campus Volunteers kennen.\nEntdecke vielfältige Freiwilligenprojekte in Bayreuth und Umgebung\, die u.a. Kinder und Jugendliche\, Menschen mit Migrations- oder Fluchthintergrund\, SeniorInnen oder Menschen mit Handicap unterstützen.\nHöre Erfahrungsberichte von bereits engagierten Studierenden.\n\nZeit: 29. April 2026\, 18:00-20:00 Uhr  \nOrt: S 65 (RW I\, 1. OG)\, Universität Bayreuth \nKontaktmöglichkeit: info@campus-volunteers.de (Anmeldung nicht erforderlich)
URL:https://www.freiwilligen-zentrum-bayreuth.de/wp/veranstaltung/informationsabend-fuer-studierende/
LOCATION:S 65 (RW I\, 1. OG)\, Universität Bayreuth\, Universitätsstraße 30\, Bayreuth\, 95447
ATTACH;FMTTYPE=image/png:https://www.freiwilligen-zentrum-bayreuth.de/wp/wp-content/uploads/2026/04/Aushang1.png
END:VEVENT
END:VCALENDAR