BEGIN:VCALENDAR
VERSION:2.0
PRODID:-//Freiwilligen Zentrum Bayreuth - ECPv6.9.0//NONSGML v1.0//EN
CALSCALE:GREGORIAN
METHOD:PUBLISH
X-WR-CALNAME:Freiwilligen Zentrum Bayreuth
X-ORIGINAL-URL:https://www.freiwilligen-zentrum-bayreuth.de/wp
X-WR-CALDESC:Veranstaltungen für Freiwilligen Zentrum Bayreuth
REFRESH-INTERVAL;VALUE=DURATION:PT1H
X-Robots-Tag:noindex
X-PUBLISHED-TTL:PT1H
BEGIN:VTIMEZONE
TZID:Europe/Helsinki
BEGIN:DAYLIGHT
TZOFFSETFROM:+0200
TZOFFSETTO:+0300
TZNAME:EEST
DTSTART:20260329T010000
END:DAYLIGHT
BEGIN:STANDARD
TZOFFSETFROM:+0300
TZOFFSETTO:+0200
TZNAME:EET
DTSTART:20261025T010000
END:STANDARD
END:VTIMEZONE
BEGIN:VEVENT
DTSTART;TZID=Europe/Helsinki:20260420T093000
DTEND;TZID=Europe/Helsinki:20260420T150000
DTSTAMP:20260424T220006
CREATED:20260128T135955Z
LAST-MODIFIED:20260128T135955Z
UID:6137-1776677400-1776697200@www.freiwilligen-zentrum-bayreuth.de
SUMMARY:Seminar: Digitalisierung im Ehrenamt
DESCRIPTION:Seminar: Digitalisierung im Ehrenamt \nDie Grundlagen der Digitalisierung sind von immer größer werdender Bedeutung. Auch im Ehrenamt ermöglicht die Digitalisierung eine effizientere Organisation von Aufgaben und Ressourcen. Sie eröffnet neue Möglichkeiten für die Kommunikation mit Seniorinnen und Senioren sowie mit anderen ehrenamtlichen Helferinnen und Helfern – etwa über Messaging-Apps\, soziale Medien oder Online-Plattformen. \nDarüber hinaus erleichtern digitale Tools und Technologien den Zugang zu Informationen und Ressourcen\, was die Qualität der Seniorenarbeit verbessern kann. Ein Verständnis der Grundlagen der Digitalisierung ist daher wertvoll\, um das Potenzial dieser Technologien im ehrenamtlichen Bereich auszuschöpfen. \n\nZeit:\n20. April 2026\, 09:30 – 15:00 Uhr \nOrt:\nLandratsamt Bayreuth\nMarkgrafenallee 5\n95448 Bayreuth\nRaum 261 \nReferentin:\nProf. Dr. Agnes Koschmider \n\nThemen des Seminars: \n• Grundlagen der Digitalisierung und deren Bedeutung im Ehrenamt\n• Tipps zur Sicherheit online\, insbesondere im Umgang mit persönlichen Daten\n• Apps und Funktionen\, die für die Seniorenarbeit nützlich sein könnten\n• Einführung in Messaging-Apps und soziale Medien\n• Zukünftige Entwicklungen im Bereich der Digitalisierung \n\nTeilnahme:\nDas Seminar ist kostenfrei. \nDie Veranstaltung wird in Kooperation mit dem Landratsamt Bayreuth durchgeführt. \n\nAnmeldung: \nDirekt über die Homepage der Seniorenakademie Bayern:\nhttps://www.seniorenakademie.bayern/seminare \nTelefonisch unter: 089 44108-563\nPer E-Mail: seniorenakademie-bayern@die-gfi.de \n\nDie Seniorenakademie Bayern wird aus Mitteln des Bayerischen Staatsministeriums für Familie\, Arbeit und Soziales finanziert.
URL:https://www.freiwilligen-zentrum-bayreuth.de/wp/veranstaltung/seminar-digitalisierung-im-ehrenamt/
LOCATION:Landratsamt Bayreuth\, Markgrafenallee 5\, Bayreuth\, 95448
ATTACH;FMTTYPE=image/png:https://www.freiwilligen-zentrum-bayreuth.de/wp/wp-content/uploads/2026/01/digi_ehrenamt.png
END:VEVENT
END:VCALENDAR