BEGIN:VCALENDAR
VERSION:2.0
PRODID:-//Freiwilligen Zentrum Bayreuth - ECPv6.9.0//NONSGML v1.0//EN
CALSCALE:GREGORIAN
METHOD:PUBLISH
X-WR-CALNAME:Freiwilligen Zentrum Bayreuth
X-ORIGINAL-URL:https://www.freiwilligen-zentrum-bayreuth.de/wp
X-WR-CALDESC:Veranstaltungen für Freiwilligen Zentrum Bayreuth
REFRESH-INTERVAL;VALUE=DURATION:PT1H
X-Robots-Tag:noindex
X-PUBLISHED-TTL:PT1H
BEGIN:VTIMEZONE
TZID:Europe/Helsinki
BEGIN:DAYLIGHT
TZOFFSETFROM:+0200
TZOFFSETTO:+0300
TZNAME:EEST
DTSTART:20260329T010000
END:DAYLIGHT
BEGIN:STANDARD
TZOFFSETFROM:+0300
TZOFFSETTO:+0200
TZNAME:EET
DTSTART:20261025T010000
END:STANDARD
END:VTIMEZONE
BEGIN:VEVENT
DTSTART;TZID=Europe/Helsinki:20260224T100000
DTEND;TZID=Europe/Helsinki:20260224T150000
DTSTAMP:20260424T233648
CREATED:20251028T085835Z
LAST-MODIFIED:20251028T085835Z
UID:5949-1771927200-1771945200@www.freiwilligen-zentrum-bayreuth.de
SUMMARY:lagfa-Tagung: Sichtbarkeit
DESCRIPTION:Im Fokus der Tagung steht das Thema „Sichtbarkeit für FA/FZ/KoBE“ – praxisnah und mit konkreten Beispielen aus dem Arbeitsalltag. Gemeinsam mit Studio SÜD erhalten Sie Impulse\, wie Sie Ihre Agentur wirksam nach außen präsentieren können. Die Veranstaltung startet mit einer inspirierenden Keynote\, die aktuelle Trends und Herausforderungen beleuchtet. In interaktiven Gruppenarbeiten werden anschließend eigene Strategien erarbeitet und praxisnahe Lösungsansätze diskutiert. Ziel ist es\, dass Sie konkrete Ideen und Werkzeuge für mehr Sichtbarkeit mit nach Hause nehmen. \n\n\n\n\n\n\nDer konkrete Ablauf folgt auf der Veranstaltungsseite der lagfa bayern e.V.
URL:https://www.freiwilligen-zentrum-bayreuth.de/wp/veranstaltung/lagfa-tagung-sichtbarkeit/
LOCATION:Online
ATTACH;FMTTYPE=image/png:https://www.freiwilligen-zentrum-bayreuth.de/wp/wp-content/uploads/2023/09/lagfa-Logo_2019_rgb.png
END:VEVENT
END:VCALENDAR