BEGIN:VCALENDAR
VERSION:2.0
PRODID:-//Freiwilligen Zentrum Bayreuth - ECPv6.9.0//NONSGML v1.0//EN
CALSCALE:GREGORIAN
METHOD:PUBLISH
X-WR-CALNAME:Freiwilligen Zentrum Bayreuth
X-ORIGINAL-URL:https://www.freiwilligen-zentrum-bayreuth.de/wp
X-WR-CALDESC:Veranstaltungen für Freiwilligen Zentrum Bayreuth
REFRESH-INTERVAL;VALUE=DURATION:PT1H
X-Robots-Tag:noindex
X-PUBLISHED-TTL:PT1H
BEGIN:VTIMEZONE
TZID:Europe/Helsinki
BEGIN:DAYLIGHT
TZOFFSETFROM:+0200
TZOFFSETTO:+0300
TZNAME:EEST
DTSTART:20260329T010000
END:DAYLIGHT
BEGIN:STANDARD
TZOFFSETFROM:+0300
TZOFFSETTO:+0200
TZNAME:EET
DTSTART:20261025T010000
END:STANDARD
END:VTIMEZONE
BEGIN:VEVENT
DTSTART;TZID=Europe/Helsinki:20260218T110000
DTEND;TZID=Europe/Helsinki:20260218T120000
DTSTAMP:20260425T031019
CREATED:20251028T093906Z
LAST-MODIFIED:20251028T093906Z
UID:5986-1771412400-1771416000@www.freiwilligen-zentrum-bayreuth.de
SUMMARY:Facebook & Instagram Anzeigen
DESCRIPTION:Zwischen Potentialen & Herausforderungen \nDie organische Reichweite von Facebook und Instagram hat in den letzten Jahren immer weiter abgenommen. Zusätzlich kommen jedes Jahr neue soziale Netzwerk hinzu. Auf nahezu allen Plattformen ist der Rückgang der Reichweite insbesondere für Unternehmen und Organisationen sichtbar\, was die erfolgreiche Nutzung und auch Sichtbarkeit erschwert. \nInsbesondere mit dem Wegfall des Spendenbuttons auf Meta in 2024 stellt sich für Organisationen eine weitere Herausforderung bei der erfolgreichen Nutzung von Instagram und Facebook dar. Eine mögliche Lösung\, um diese und viele weiteren Herausforderungen ein Stück weit aus dem Weg zu räumen: Anzeigen schalten! Denn durch den Einsatz von sogenannten Social Ads eröffnen sich neue Möglichkeiten\, um die fehlende organische Reichweite auszugleichen\, aber auch darüber hinaus weitere Organisationsziele wie das Fundraising messbar voranzutreiben. \nIm Webinar erhalten Sie einen Überblick darüber\, wie Sie Anzeigen auf Facebook und Instagram erfolgreich einsetzen und und welche Einstellungsmöglichkeiten Sie hierbei haben. \nDarüber hinaus schauen wir uns gemeinsam an\, was sich seit dem neuen Verbot im Oktober 2025 von politischen Anzeigen auf Meta verändert hat und wie Organisationen die Plattform zukünftig doch noch für sich nutzen können. \nInhalte: \n\nWie funktioniert Fundraising und Marketing auf Facebook und Instagram und welchen Stellenwert sollten soziale Netzwerke in der Gesamtstrategie übernehmen?\nWie starte ich mit Anzeigen auf Facebook und Instagram und was gilt es\, hierbei zu beachten?\nLohnt es sich trotz neuer EU-Verordnung weiterhin Anzeigen auf Meta zu schalten?\nWie sehen Meta Anzeigen aus und was sind Best Practices aus der Non-Profit Branche?\n\nZielgruppe: Gemeinnützige Organisationen und Vereine\, die bereits Anzeigen auf Meta schalten oder zukünftig hier aktiver werden möchten\, um die eigene Reichweite\, Unterschriften für Petitionen\, Spenden oder andere Organisationsziele weiter voranzutreiben. \nEmpfehlung: Organisationen aus Deutschland\, Österreich und der Schweiz \nDieses Webinar wird ermöglicht durch:
URL:https://www.freiwilligen-zentrum-bayreuth.de/wp/veranstaltung/facebook-instagram-anzeigen/
LOCATION:Online
ATTACH;FMTTYPE=image/png:https://www.freiwilligen-zentrum-bayreuth.de/wp/wp-content/uploads/2025/10/hds_18februar.png
END:VEVENT
BEGIN:VEVENT
DTSTART;TZID=Europe/Helsinki:20260218T140000
DTEND;TZID=Europe/Helsinki:20260218T160000
DTSTAMP:20260425T031019
CREATED:20260128T134225Z
LAST-MODIFIED:20260128T134226Z
UID:6126-1771423200-1771430400@www.freiwilligen-zentrum-bayreuth.de
SUMMARY:Offene Sprechstunde in der Stadtbibliothek RW 21
DESCRIPTION:Sie möchten sich über ehrenamtliches Engagement informieren oder suchen eine passende Einsatzmöglichkeit? Dann nutzen Sie unsere offene Sprechstunde. \nJeden dritten Mittwoch im Monat ist das Freiwilligen Zentrum Bayreuth mit Informationen rund um das Thema Ehrenamt im Eingangsbereich der Stadtbibliothek RW 21 präsent. Hier können Sie sich unverbindlich informieren und persönlich beraten lassen. \nTermine:18. Februar 202618. März 202615. April 2026 \nUhrzeit: 14:00 – 16:00 Uhr \nOrt:Stadtbibliothek RW 21Richard-Wagner-Straße 2195444 Bayreuth \nDie Beratung ist barrierefrei zugänglich. \nAlternativ können Sie sich auch während unserer Öffnungszeiten im Büro des Freiwilligen Zentrums Bayreuth persönlich beraten lassen.Weitere Informationen zu Engagementangeboten und zum Thema Ehrenamt finden Sie auf unserer Homepage.
URL:https://www.freiwilligen-zentrum-bayreuth.de/wp/veranstaltung/offene-sprechstunde-in-der-stadtbibliothek-rw-21/
LOCATION:Stadtbibliothek RW 21\, Richard-Wagner-Straße 21\, Bayreuth\, 95444
ATTACH;FMTTYPE=image/jpeg:https://www.freiwilligen-zentrum-bayreuth.de/wp/wp-content/uploads/2026/01/sprechstunde_rw21.jpeg
END:VEVENT
BEGIN:VEVENT
DTSTART;TZID=Europe/Helsinki:20260218T170000
DTEND;TZID=Europe/Helsinki:20260218T183000
DTSTAMP:20260425T031019
CREATED:20251028T094130Z
LAST-MODIFIED:20251028T094130Z
UID:5989-1771434000-1771439400@www.freiwilligen-zentrum-bayreuth.de
SUMMARY:Partner finden – Ausschreibungen und Anträge
DESCRIPTION:„weniger ist mehr“ – Webinar 4  \nWie finden Stiftungen und gemeinnützige Organisationen zueinander? Und wie können Bewerbungs- und Auswahlverfahren effizienter gestaltet werden? In diesem Webinar geht es um schlanke Verfahren\, die Bürokratie reduzieren und gleichzeitig passgenaue Partnerschaften ermöglichen. Vorgestellt werden Modelle für Ausschreibungen\, Anträge und Auswahlprozesse\, die mit weniger Aufwand zu besseren Ergebnissen führen – für beide Seiten. \n\n\n\n\n\n\n\n\n\n\n\nModeration und Einführung: Moderation und Einführung: Dr. Karsten Timmer\, Stifterrat Stifter für Stifter\, Geschäftsführer wohl&tätig GmbH  \nAls Geschäftsführer der wohl & tätig GmbH (früher: panta rhei Stiftungsberatung)\, unterstützt Dr. Karsten Timmer seit 2005 vermögende Privatpersonen und ihre Stiftungen bei der Auswahl förderungswürdiger Spenden- und Stiftungsprojekte im In- und Ausland. Er ist Stifterrat der Stiftung „Stifter für Stifter“ und Co-Host des Webtalks #ImpulseStiften. \n\n\n\n\n\n\n\n\n\n\n\n\n\n\n\nExpertin: Tessa Vorbohle\, Abteilungsleitung Deutsche Programme Save the Children
URL:https://www.freiwilligen-zentrum-bayreuth.de/wp/veranstaltung/partner-finden-ausschreibungen-und-antraege/
LOCATION:Online
ATTACH;FMTTYPE=image/png:https://www.freiwilligen-zentrum-bayreuth.de/wp/wp-content/uploads/2025/10/hds_18februar2.png
END:VEVENT
END:VCALENDAR