BEGIN:VCALENDAR
VERSION:2.0
PRODID:-//Freiwilligen Zentrum Bayreuth - ECPv6.9.0//NONSGML v1.0//EN
CALSCALE:GREGORIAN
METHOD:PUBLISH
X-ORIGINAL-URL:https://www.freiwilligen-zentrum-bayreuth.de/wp
X-WR-CALDESC:Veranstaltungen für Freiwilligen Zentrum Bayreuth
REFRESH-INTERVAL;VALUE=DURATION:PT1H
X-Robots-Tag:noindex
X-PUBLISHED-TTL:PT1H
BEGIN:VTIMEZONE
TZID:Europe/Helsinki
BEGIN:DAYLIGHT
TZOFFSETFROM:+0200
TZOFFSETTO:+0300
TZNAME:EEST
DTSTART:20260329T010000
END:DAYLIGHT
BEGIN:STANDARD
TZOFFSETFROM:+0300
TZOFFSETTO:+0200
TZNAME:EET
DTSTART:20261025T010000
END:STANDARD
END:VTIMEZONE
BEGIN:VEVENT
DTSTART;TZID=Europe/Helsinki:20260203T110000
DTEND;TZID=Europe/Helsinki:20260203T120000
DTSTAMP:20260425T025940
CREATED:20251028T093742Z
LAST-MODIFIED:20251028T093742Z
UID:5983-1770116400-1770120000@www.freiwilligen-zentrum-bayreuth.de
SUMMARY:Visionsorientierte Teamführung
DESCRIPTION:Ohne eine klare Vision fehlt jeder Organisation der Fokus. Doch wenn alle Beteiligten ein gemeinsames Ziel vor Augen haben\, wird die tägliche Arbeit effektiver und die Ergebnisse überzeugender. Aber wie schafft man es\, eine Vision zu entwickeln\, die alle inspiriert? Und wie kann sie so in den Arbeitsalltag integriert werden\, dass sie wirklich gelebt wird? \nIn unserem Webinar zeigen wir Ihnen\, wie Sie eine klare Vision für Ihr Team oder Ihre Organisation entwickeln\, welche Kriterien dafür entscheidend sind und wie Sie diese Vision Schritt für Schritt in die tägliche Arbeit einbinden. Sie lernen praktische Werkzeuge kennen\, mit denen Sie Ihr Team motivieren und auf Kurs halten können – damit die Vision zur Grundlage für den langfristigen Erfolg wird. \nEgal\, ob Sie zum Vorstand gehören oder erst seit kurzem bei einer Organisation tätig sind – hier bekommt jeder und jede von Ihnen hilfreiche Impulse und Anwendungsbeispiele\, die Sie direkt auf Ihren Alltag übertragen und umsetzen können. \nInhalte: \n\nWarum benötigen gemeinnützige Organisationen eine klar definierte Vision?\nWelche Kriterien müssen bei der Formulierung einer eigenen Vision und Positionierung beachtet werden?\nWelche Werkzeuge und Modelle helfen bei der Implementation der eigenen Vision?\nWie wird die Vision einer Organisation an das gesamte Team kommuniziert und ein einheitliches Verständnis geschaffen?\n\nZielgruppe: Für alle\, die für sich und ihr Team mehr Klarheit schaffen wollen und damit ihre Ziele als Team besser erreichen können. \nEmpfehlung: Organisationen aus Deutschland\, Österreich und der Schweiz \nDieses Webinar wird ermöglicht durch:
URL:https://www.freiwilligen-zentrum-bayreuth.de/wp/veranstaltung/visionsorientierte-teamfuehrung/
LOCATION:Online
ATTACH;FMTTYPE=image/png:https://www.freiwilligen-zentrum-bayreuth.de/wp/wp-content/uploads/2025/10/hds_3februar.png
END:VEVENT
END:VCALENDAR